BEGIN:VCALENDAR
VERSION:2.0
PRODID:-//Kollock Hawks Alumni - ECPv6.15.20//NONSGML v1.0//EN
CALSCALE:GREGORIAN
METHOD:PUBLISH
X-ORIGINAL-URL:https://kollockhawksalumni.org
X-WR-CALDESC:Events for Kollock Hawks Alumni
REFRESH-INTERVAL;VALUE=DURATION:PT1H
X-Robots-Tag:noindex
X-PUBLISHED-TTL:PT1H
BEGIN:VTIMEZONE
TZID:UTC
BEGIN:STANDARD
TZOFFSETFROM:+0000
TZOFFSETTO:+0000
TZNAME:UTC
DTSTART:20240101T000000
END:STANDARD
END:VTIMEZONE
BEGIN:VEVENT
DTSTART;TZID=UTC:20250920T113000
DTEND;TZID=UTC:20250920T153000
DTSTAMP:20260421T081331
CREATED:20250515T152723Z
LAST-MODIFIED:20250515T152723Z
UID:31163-1758367800-1758382200@kollockhawksalumni.org
SUMMARY:Car\, Truck\, & Bike Show
DESCRIPTION:📅 Date: Saturday\, September 20th / Time: 11:30-3:30 PM📍 Location: Kollock Hawks Alumni Association💰 Registration Fee: $20 \nRev up your engines and join us for a day full of horsepower\, fun\, and community spirit at the Car\, Truck\, & Bike Show hosted by the Kollock Hawks Alumni Association! Whether you’re a proud vehicle owner ready to show off your ride or a car enthusiast who loves to admire classic builds and custom creations\, this is the event for you! \n🏆 Trophy awarded at 3PM — so bring your best and shine up those wheels!🎟️ Try your luck in our 50/50 raffle — you could walk away a winner!🍔 Food trucks and 🛍️ vendors will be on-site with delicious eats and unique finds. \nBring the whole family and enjoy a high-energy day celebrating everything on wheels. Spectators are welcome\, and there’s something for everyone! \nAll are welcome — come out\, connect with the community\, and celebrate the love of cars\, trucks\, and bikes!
URL:https://kollockhawksalumni.org/event/car-truck-bike-show/
LOCATION:SC
CATEGORIES:Event Show
ATTACH;FMTTYPE=image/png:https://kollockhawksalumni.org/wp-content/uploads/2025/05/KHCarShowDigitalFlyer1.png
ORGANIZER;CN="Kollock Hawks Alumni Association":MAILTO:mikecoachman@gmail.com
END:VEVENT
BEGIN:VEVENT
DTSTART;TZID=UTC:20250906T170000
DTEND;TZID=UTC:20250906T190000
DTSTAMP:20260421T081331
CREATED:20250814T023716Z
LAST-MODIFIED:20250902T151944Z
UID:31170-1757178000-1757185200@kollockhawksalumni.org
SUMMARY:Kollock School Reunion
DESCRIPTION:Join Us for an Unforgettable Reunion Celebration! \nGet ready for an afternoon filled with laughter\, music\, and great company. Enjoy delicious food\, exciting prize drawings\, and the joy of reconnecting as we take a trip down memory lane. Bring a guest and share in the fellowship\, fun\, and festivities! \nSpecial Feature: Don’t miss our Hat Fashion Show—the perfect opportunity to showcase your most stylish and creative headwear. \nWith prizes\, entertainment\, and surprises in store\, this is an event you won’t want to miss. \nWe can’t wait to see you there! \n  \nDress Code: Casual or Semi-Formal \nAdmission: $20.00/per person for non-members
URL:https://kollockhawksalumni.org/event/kollock-school-reunion/
LOCATION:Kollock Hawks Alumni Association\, 640 Old Wire Road West\, Bennettsville\, SC\, 29512\, United States
CATEGORIES:Reunion
END:VEVENT
BEGIN:VEVENT
DTSTART;TZID=UTC:20250425T110000
DTEND;TZID=UTC:20250425T150000
DTSTAMP:20260421T081331
CREATED:20250308T145024Z
LAST-MODIFIED:20250308T145025Z
UID:31122-1745578800-1745593200@kollockhawksalumni.org
SUMMARY:Veterans Stand Down 2025
DESCRIPTION:Veterans Stand Down and Community Resource Day \nJoin us for: \n\nHousing Resources\nHealth\nLegal Aid Services\nVeterans Administration\nDept of Social Services\nFood & Music\nCommunity Resources\n\nEvent organized by Mike Strong
URL:https://kollockhawksalumni.org/event/veterans-stand-down-2025/
LOCATION:Bennettsville Community Center\, 714 N Marlboro St.\, Bennettsville\, SC\, 29512\, United States
ATTACH;FMTTYPE=application/pdf:https://kollockhawksalumni.org/wp-content/uploads/2025/03/Stand-Down-2025.pdf
ORGANIZER;CN="Lynn Mark Solutions%2C Inc":MAILTO:info@lynnmarksolutionsinc.org
END:VEVENT
BEGIN:VEVENT
DTSTART;TZID=UTC:20250222T140000
DTEND;TZID=UTC:20250222T170000
DTSTAMP:20260421T081331
CREATED:20250212T220831Z
LAST-MODIFIED:20250212T221421Z
UID:31075-1740232800-1740243600@kollockhawksalumni.org
SUMMARY:Kollock Hawks Alumni Celebrates Black History Month
DESCRIPTION:Join the Kollock Hawks Alumni Association as we come together to celebrate Black History Month in a powerful and uplifting way! Experience an unforgettable evening filled with music\, dance\, and community spirit\, featuring a special performance by the inspiring Breakthrough Beyond The Walls Praise Dance Group. Enjoy delicious food\, exciting door prizes\, and a joyous atmosphere as we honor our rich history and culture. Don’t miss this opportunity to celebrate\, connect\, and uplift one another—come out and be a part of something special!
URL:https://kollockhawksalumni.org/event/kollock-hawks-alumni-celebrates-black-history-month/
LOCATION:Kollock Hawks Alumni Association\, 640 Old Wire Road West\, Bennettsville\, SC\, 29512\, United States
ATTACH;FMTTYPE=application/pdf:https://kollockhawksalumni.org/wp-content/uploads/2025/02/BLACK-HISTORY-FLYER-2.pdf
END:VEVENT
END:VCALENDAR